BEGIN:VCALENDAR
VERSION:2.0
PRODID:-//Coolaste Centrum - ECPv6.15.20//NONSGML v1.0//EN
CALSCALE:GREGORIAN
METHOD:PUBLISH
X-WR-CALNAME:Coolaste Centrum
X-ORIGINAL-URL:https://www.coolastecentrum.com
X-WR-CALDESC:Händelser för Coolaste Centrum
REFRESH-INTERVAL;VALUE=DURATION:PT1H
X-Robots-Tag:noindex
X-PUBLISHED-TTL:PT1H
BEGIN:VTIMEZONE
TZID:Europe/Paris
BEGIN:DAYLIGHT
TZOFFSETFROM:+0100
TZOFFSETTO:+0200
TZNAME:CEST
DTSTART:20250330T010000
END:DAYLIGHT
BEGIN:STANDARD
TZOFFSETFROM:+0200
TZOFFSETTO:+0100
TZNAME:CET
DTSTART:20251026T010000
END:STANDARD
BEGIN:DAYLIGHT
TZOFFSETFROM:+0100
TZOFFSETTO:+0200
TZNAME:CEST
DTSTART:20260329T010000
END:DAYLIGHT
BEGIN:STANDARD
TZOFFSETFROM:+0200
TZOFFSETTO:+0100
TZNAME:CET
DTSTART:20261025T010000
END:STANDARD
BEGIN:DAYLIGHT
TZOFFSETFROM:+0100
TZOFFSETTO:+0200
TZNAME:CEST
DTSTART:20270328T010000
END:DAYLIGHT
BEGIN:STANDARD
TZOFFSETFROM:+0200
TZOFFSETTO:+0100
TZNAME:CET
DTSTART:20271031T010000
END:STANDARD
END:VTIMEZONE
BEGIN:VEVENT
DTSTART;TZID=Europe/Paris:20260227T180000
DTEND;TZID=Europe/Paris:20260301T170000
DTSTAMP:20260423T202659
CREATED:20251114T102339Z
LAST-MODIFIED:20251114T102348Z
UID:432-1772215200-1772384400@www.coolastecentrum.com
SUMMARY:World Cup vintersim i Skellefteå
DESCRIPTION:20260227 start med invigning ; vakpoesi \, musik i vak ocg påisendans Klockan 18 . \nTävlingar startar den 28 februari klockan 10 och avslutas 01 mars 2026 \nAnmälan www.vintersim.se
URL:https://www.coolastecentrum.com/index.php/event/world-cup-vintersim-i-skelleftea/
END:VEVENT
END:VCALENDAR